BEGIN:VCALENDAR
VERSION:2.0
PRODID:-//wp-events-plugin.com//6.4.6.4//EN
TZID:Europe/Madrid
X-WR-TIMEZONE:Europe/Madrid
BEGIN:VEVENT
UID:25@smootharkano.info
DTSTART;TZID=Europe/Madrid;VALUE=DATE:20260207
DTEND;TZID=Europe/Madrid;VALUE=DATE:20260208
DTSTAMP:20260115T113741Z
URL:https://www.smootharkano.info/events/fms-barcelona/
SUMMARY:FMS Barcelona
DESCRIPTION:
END:VEVENT
BEGIN:VTIMEZONE
TZID:Europe/Madrid
X-LIC-LOCATION:Europe/Madrid
BEGIN:STANDARD
DTSTART:20251026T020000
TZOFFSETFROM:+0200
TZOFFSETTO:+0100
TZNAME:CET
END:STANDARD
END:VTIMEZONE
END:VCALENDAR